BEGIN:VCALENDAR
VERSION:2.0
PRODID:-//Parmarth School of Yoga - ECPv6.14.2//NONSGML v1.0//EN
CALSCALE:GREGORIAN
METHOD:PUBLISH
X-WR-CALNAME:Parmarth School of Yoga
X-ORIGINAL-URL:https://courses.parmarth.org
X-WR-CALDESC:Events for Parmarth School of Yoga
REFRESH-INTERVAL;VALUE=DURATION:PT1H
X-Robots-Tag:noindex
X-PUBLISHED-TTL:PT1H
BEGIN:VTIMEZONE
TZID:UTC
BEGIN:STANDARD
TZOFFSETFROM:+0000
TZOFFSETTO:+0000
TZNAME:UTC
DTSTART:20250101T000000
END:STANDARD
END:VTIMEZONE
BEGIN:VEVENT
DTSTART;VALUE=DATE:20250706
DTEND;VALUE=DATE:20250712
DTSTAMP:20260422T152809
CREATED:20250613T185246Z
LAST-MODIFIED:20250630T202727Z
UID:8334-1751760000-1752278399@courses.parmarth.org
SUMMARY:Guru Purnima Retreat: Flow\, Grow and Glow
DESCRIPTION:July 6-12th\, 2025\n\n\n\n\nA Sacred Immersion in Yoga\, Devotion & Service\nParmarth Niketan\, Rishikesh | Guru Purnima 2025 \nTo truly absorb the blessings of this sacred time\, we warmly invite you to join our Guru Purnima Retreat leading into the main celebration. This soulful experience includes: \n\nDaily Yoga & Pranayama\nGuided Meditation & Mantra Chanting\nScriptural Wisdom on Bhakti\, Karma & Gyan Yoga\nSeva (selfless service)\nSacred Yagya & Guru Puja\nEvening Ganga Aarti & Satsang\n\nAn opportunity to live the spirit of “Love\, Serve\, Remember”\, this retreat is open to all seekers wishing to go deeper.
URL:https://courses.parmarth.org/events/guru-purnima-retreat-jul6/
LOCATION:Parmarth Niketan\, Parmarth Niketan\, P.O. Swargashram\, Rishikesh\, Uttarakhand\, 249304\, India
CATEGORIES:Retreats,Special Events
ATTACH;FMTTYPE=image/png:https://courses.parmarth.org/wp-content/uploads/2025/06/gurupurnima.png
END:VEVENT
END:VCALENDAR