BEGIN:VCALENDAR
VERSION:2.0
PRODID:-//Parmarth School of Yoga - ECPv6.14.2//NONSGML v1.0//EN
CALSCALE:GREGORIAN
METHOD:PUBLISH
X-ORIGINAL-URL:https://courses.parmarth.org
X-WR-CALDESC:Events for Parmarth School of Yoga
REFRESH-INTERVAL;VALUE=DURATION:PT1H
X-Robots-Tag:noindex
X-PUBLISHED-TTL:PT1H
BEGIN:VTIMEZONE
TZID:UTC
BEGIN:STANDARD
TZOFFSETFROM:+0000
TZOFFSETTO:+0000
TZNAME:UTC
DTSTART:20260101T000000
END:STANDARD
END:VTIMEZONE
BEGIN:VEVENT
DTSTART;VALUE=DATE:20260323
DTEND;VALUE=DATE:20260328
DTSTAMP:20260423T002819
CREATED:20250919T191857Z
LAST-MODIFIED:20260214T002042Z
UID:8456-1774224000-1774655999@courses.parmarth.org
SUMMARY:Special Navratri Spiritual Retreat
DESCRIPTION:Special Navratri Spiritual Retreat\nMarch 23rd – 27th\, 2026\nInstructions in English \nAwaken the Divine Energy Within Yourself!   \nCome celebrate Navratri (sacred nine nights of the Goddess) and Dussehra\, the holiday dedicated to the vanquishing of darkness by light; of vanquishing ignorance with wisdom\, on the holy banks of Mother Ganga in the lap of the majestic and sacred Himalayas. \n\n\nNavratri is the sacred time in which the power of the Divine Mother Goddess — as Durga\, Lakshmi\, and Saraswati — is celebrated.  Come\, receive the blessings of the Mother Goddess\, rejuvenate and re-energize yourself\, and let your own inner Light emerge as you discover your inner wisdom! \nThis Special  Navratri Spiritual Retreat includes pranayama\, basic yoga asanas including surya namaskar\, eternal sound healing with gongs\, spiritual question & answer sessions\, meditation\, observing of silence\, self-reflection\, mantra chanting\, sacred fire ceremonies\, special ceremonies dedicated to the Mother Goddess\, karma yoga\, Himalayan walks and much more. Each day concludes with Ganga havan and aarti at sunset followed by satsang {spiritual question & answer session]. Experience a transformative retreat\, concluding on Dussehra with a special yagna/havan ceremony to transform and / or release all that is false and no longer serves you. \nCome\, be in the presence of the living spiritual master and continue your spiritual journey with full awareness of your divine energy within! \n\n\n\n\nGuidelines\n\n\n\n\nThis Special Navratri Retreat is for those who are drawn to rejuvenating and re-energizing their path of Self-discovery\, to awaken the divine energy within yourself and let your own inner Light emerge as you discover your inner wisdom! Each participant is required to adhere to the following guidelines which are in place to facilitate your transformation. Therefore\, by attending this event you agree to: \n\n\n\n\n\n\n\n\n\n\n\n\nWhile at the retreat\, take the divine opportunity to go as deeply as possible. In this way\, you make the most of your opportunity and also honour the retreat of other participants.\nAll pilgrims are expected to join in the Ganga Aarti (the light ceremony with devotional songs at sunset).\nThe pilgrims staying in this ashram are required to observe and adhere to truth\, non-violence\, self-discipline\, and polite etiquette.\nRespect and abide by the code of the ashram for the full duration of the retreat.  To learn about all of the ashram’s guidelines\, please click here. \n\nAll pilgrims (both men and women) are required to dress modestly and soberly\, in a way that shows respect for the tradition of ashram life. We request that no shorts\, sleeveless shirts\, or other revealing clothing are worn.\nThe following are strictly prohibited: smoking\, drinking intoxicants\, using drugs\, eating egg or other non-vegetarian foods\, playing cards\, watching television\, playing radios/cassette players loudly. We also recommend that you refrain from eating onions and garlic.\nIt is prohibited to use playing cards\, radios\, or TVs.\nPlease refrain from picking flowers and littering.\nNo pets are allowed.\nNo strangers or persons who are not mentioned on the admission form are allowed to be invited or entertained in the rooms.\nIt is the pilgrim’s responsibility to keep his/her room clean and tidy. Rooms should always remain in the same condition as when they were assigned.\n\n\nTake the opportunity to ask questions to Pujya Swamiji and/or Sadhvi Bhagawatiji that will be helpful to you on your spiritual path.  There is no such thing as a “wrong” question!  If you would like to submit a question but don’t want to do it in front of others\, you can write them down and give them to the sevaks at the ashram.\nIn the event that the administration asks the pilgrim to leave\, the pilgrim must vacate the premises immediately.\nPlease do not oblige anyone by directly providing money\, clothes or tips of any kind. This affects the discipline and management of the ashram as well as negatively influences the divine\, devoted feeling amongst the individuals here. Whatever help you want to give\, please donate it to the office\, and it will be distributed where it is most needed.\nPlease note that spiritual retreats are not replacements for medical treatment and/or therapy.  If you have or are currently dealing with a medical problem\, whether it be physical or mental\, please ensure that this retreat will be a safe place for you\, as well as the other participants.\nBy attending this event\, you agree to have your image and possibly voice recorded\, which could be shared in our publications\, videos\, websites\, and social media.  Images of all individuals are treated with respect\, and your image and/or voice will never be sold.  If you do not want to be photographed/filmed\, please write to us or let us know in advance.
URL:https://courses.parmarth.org/events/special-navratri-spiritual-retreat-mar23/
LOCATION:Parmarth Niketan\, Parmarth Niketan\, P.O. Swargashram\, Rishikesh\, Uttarakhand\, 249304\, India
CATEGORIES:Retreats
ATTACH;FMTTYPE=image/jpeg:https://courses.parmarth.org/wp-content/uploads/2025/09/Chaitra-Nav.jpg
END:VEVENT
END:VCALENDAR