BEGIN:VCALENDAR
VERSION:2.0
PRODID:-//Parmarth School of Yoga - ECPv6.14.2//NONSGML v1.0//EN
CALSCALE:GREGORIAN
METHOD:PUBLISH
X-ORIGINAL-URL:https://courses.parmarth.org
X-WR-CALDESC:Events for Parmarth School of Yoga
REFRESH-INTERVAL;VALUE=DURATION:PT1H
X-Robots-Tag:noindex
X-PUBLISHED-TTL:PT1H
BEGIN:VTIMEZONE
TZID:UTC
BEGIN:STANDARD
TZOFFSETFROM:+0000
TZOFFSETTO:+0000
TZNAME:UTC
DTSTART:20260101T000000
END:STANDARD
END:VTIMEZONE
BEGIN:VEVENT
DTSTART;VALUE=DATE:20260405
DTEND;VALUE=DATE:20260415
DTSTAMP:20260425T205624
CREATED:20250919T193034Z
LAST-MODIFIED:20260329T092806Z
UID:8479-1775347200-1776211199@courses.parmarth.org
SUMMARY:ShantiLotus Healing Retreat with Tara Maa - Full Program
DESCRIPTION:ShantiLotus Healing Retreat with Tara Maa – Full Program\nApril 5th – 14th\, 2026\nInstructions in English \nwith Tara Maa \nShantiLotus Healing Dance Retreat with Tara Maa is an opportunity to continue the healing of our individual\, ancestral and collective trauma to bring healing\, peace and harmony to our little piece of the world. Shanti is the Sanskrit word for “Peace”. The Lotus represents ‘Living from Spirit – Soul’\, the ability to be beautiful\, to allow our essence to bring calmness to the world even when we are stuck and live in the ‘mud’ of the world. \nShantiLotus Healing Dance Retreat includes sacred dance\, prana\, kriya\, chanting\, satsang\, breathwork and meditation that encourages the release of our happiness chemicals in the brain to experience joy\, bliss\, and delight; and the beauty\, mysticism and power of ShivaShakti. You will be guided to release trauma held in the body to reduce anxiety\, stress and fears and discover a better way of being. Improve your sleep\, mental and emotional health and wellness to live with a deeper sense of focus\, motivation\, creativity\, clarity\, compassion\, courage and intuition with higher vitality and energy. \nSatsang based on Pujya Swami Chidanand Saraswatiji’s teachings will explore simple tools of intention\, discipline and surrender to unlock your full potential to live from your higher Self for a deep sense of joy\, ecstasy\, health and well being. \nSome of the topics we will explore are; gratitude\, purpose\, forgiveness\, the blessings of challenges\, etc. Discover who you are beyond the roles you play in society. Let go old beliefs that no longer serve you; balance your masculine and feminine energies\, your human and divine qualities; and\, bring harmony between your ego-self and your Divine Self to access the Universal Shiva Consciousness and connect with the Shakti within. \nThe Introduction will focus on how to ‘Live with Grace the Life you Have’. By the end of the Full ShantiLotus Healing Dance Retreat\, you will have an Action Plan to Co-Create the Life you Desire. \nEach day begins with yoga and yagna for World Health and World Peace; and\, ends with the world-renowned Ganga Aarti on the holy banks of Ma Ganga in the sacred lap of the majestic Himalayas followed by the spiritual Satsang with Pujya Sadhviji and / or Darshan with Pujya Swamiji when they are at the Ashram. You will have opportunities for individual coaching with Tara Maa by appointment. \nDress code: Modest for Ashram setting. You may wear colours that inspire your spiritual and emotional well being. \nPlease bring writing materials [pen / journal\, ipad\, art materials\, etc.] to record your insights and discoveries. \n 
URL:https://courses.parmarth.org/events/shantilotus-healing-retreat-with-tara-maa-apr5/
LOCATION:Parmarth Niketan\, Parmarth Niketan\, P.O. Swargashram\, Rishikesh\, Uttarakhand\, 249304\, India
CATEGORIES:Yoga Courses
ATTACH;FMTTYPE=image/png:https://courses.parmarth.org/wp-content/uploads/2025/09/unnamed.png
END:VEVENT
BEGIN:VEVENT
DTSTART;VALUE=DATE:20260412
DTEND;VALUE=DATE:20260419
DTSTAMP:20260425T205624
CREATED:20250919T190501Z
LAST-MODIFIED:20260329T092823Z
UID:8419-1775952000-1776556799@courses.parmarth.org
SUMMARY:Vedantic Path to Self-Realisation - 1
DESCRIPTION:Vedantic Path to Self-Realisation – 1\nApril 12th – 18th\, 2026\nThis beautiful 1-week course delves deep into our Self to find the solution to all problems that the world presents to us and lay down a path to eternal happiness\, bliss and freedom from illusion\, miseries\, sufferings and death. This course on Tattva Bodha is an introduction into the study of Vedanta\, the practical path to self-realisation and liberation (moksha).  Tattva Bodha\, a basic work of Adi Shankaracharya ji\, literally means the knowledge of truth. This course will go through Tattva Bodha verse by verse\, helping us reflect on applying this wisdom practically into our lives and will include twice a day Yoga Asana classes\, meditation by the holy banks of Mother Ganga\, morning walks in addition to yagna\, the Ganga Aarti\, evening satsang to make it a beautiful immersive experience providing the teaching as well as the touch of this sacred wisdom. \nPlease note this program ends at 1 pm on the last day.  Do plan your departure from the Ashram accordingly preferably after lunch. \nDress Code:  Modest clothing in white that is not see-through which covers the upper arms\, cleavage and lower legs. \n 
URL:https://courses.parmarth.org/events/vedantic-path-to-self-realisation-1-8/
LOCATION:Parmarth Niketan\, Parmarth Niketan\, P.O. Swargashram\, Rishikesh\, Uttarakhand\, 249304\, India
CATEGORIES:Yoga Courses
ATTACH;FMTTYPE=image/png:https://courses.parmarth.org/wp-content/uploads/2025/09/unnamed-1.png
END:VEVENT
END:VCALENDAR