BEGIN:VCALENDAR
VERSION:2.0
PRODID:-//Parmarth School of Yoga - ECPv6.14.2//NONSGML v1.0//EN
CALSCALE:GREGORIAN
METHOD:PUBLISH
X-WR-CALNAME:Parmarth School of Yoga
X-ORIGINAL-URL:https://courses.parmarth.org
X-WR-CALDESC:Events for Parmarth School of Yoga
REFRESH-INTERVAL;VALUE=DURATION:PT1H
X-Robots-Tag:noindex
X-PUBLISHED-TTL:PT1H
BEGIN:VTIMEZONE
TZID:UTC
BEGIN:STANDARD
TZOFFSETFROM:+0000
TZOFFSETTO:+0000
TZNAME:UTC
DTSTART:20240101T000000
END:STANDARD
END:VTIMEZONE
BEGIN:VEVENT
DTSTART;VALUE=DATE:20241102
DTEND;VALUE=DATE:20241111
DTSTAMP:20260425T150241
CREATED:20230929T105406Z
LAST-MODIFIED:20241019T164010Z
UID:7669-1730505600-1731283199@courses.parmarth.org
SUMMARY:Dance of Shiva & Shakti with Tara Maa
DESCRIPTION:Dance of Shiva & Shakti with Tara Maa\nNovember 2nd-10th\, 2024\n\n\nInstructions in English \nwith Tara Maa \nDance of Shiva & Shakti is an opportunity to develop a practice to heal past traumas and let go old beliefs that are no longer serving you; to balance your masculine and feminine energies\, your human and divine qualities; and\, to bring harmony between your ego-self with your Divine Self. This 8-day retreat includes Tara Maa’s Signature System of Connection to Transformation\, Shakti Vidya and ChakradanceTM. \nChakradanceTM is a premium dance modality for the soul that activates inner healing to release embodied trauma and reduce stresses. A playful\, spirited\, free flowing dance form\, ChakradanceTM awakens the body\, expands the mind and connects with the soul. As we heal the traumas and stresses of the human existence\, we are better able to connect with and nourish the soul. Moving to music specifically created to resonate with each chakra\, you are guided into your own inner dance of release and re-connection with guided visualizations\, meditation\, dance and mandala art to balance your chakras for greater well being\, freedom\, peace and joy.  We will focus on one chakra each day. \nShakti Vidya awakens the power at each chakra to live your authentic self as you activate inner healing and discover the powerful Shakti that you are! Learn prana\, kriya\, mantra\, mudra and meditation as taught by Raja Chaudhury to live\, love\, lead and serve from the wisdom of your heart as you evolve into the truth of who you are\, while being even more fully present and engaged in daily life. Safely awaken your hidden ‘power’ – your kundalini – to become more intuitive\, fearless\, compassionate\, courageous\, creative\, protected and peaceful. \nTara Maa’s Signature System of Connection to Transformation based on Pujya Swami Chidanandji’s teachings provides you with simple tools of intention\, discipline and surrender to co-create the life your desire and live with grace the life you are given. \nEach day begins with yoga and ends with the world-renowned Ganga Aarti on the holy banks of Ma Ganga in the lap of the sacred and majestic Himalayas followed by the spiritual Satsang with Pujya Sadhviji and / or Darshan with Pujya Swamiji. You will have opportunities for individual coaching with Tara Maa by appointment. \nDress: Modest as per Ashram guidelines. Please wear clothing or jewellery with the colours of the chakras – red\, orange\, yellow\, green\, sky blue\, night sky blue [indigo] purple or white &\ngold.
URL:https://courses.parmarth.org/events/dance-of-shiva-shakti-with-tara-maa-nov2/
LOCATION:Parmarth Niketan\, Parmarth Niketan\, P.O. Swargashram\, Rishikesh\, Uttarakhand\, 249304\, India
CATEGORIES:Yoga Courses
ATTACH;FMTTYPE=image/jpeg:https://courses.parmarth.org/wp-content/uploads/2023/09/shivashakti.jpg
END:VEVENT
END:VCALENDAR